BEGIN:VCALENDAR
VERSION:2.0
PRODID:-//Sabre//Sabre VObject 4.5.8//EN
CALSCALE:GREGORIAN
BEGIN:VEVENT
UID:sabre-vobject-b3461f57-40f4-42f2-801d-6a4f759c9cae
DTSTAMP:20260424T153028Z
SUMMARY:Hoffnung über den Tod hinaus? Leben mit der Trauer um ein Kind
DESCRIPTION:https://keb-augsburg.de/veranstaltungen/hoffnung-ueber-den-tod-
 hinaus-leben-mit-der-trauer-um-ein-kind_id113185
DTSTART;TZID=Europe/Berlin:20221202T180000
DTEND;TZID=Europe/Berlin:20221204T150000
LOCATION:Tagungshaus der Franziskanerinnen Kloster Bonlanden\, Faustin-Menn
 el-Straße 1\, 88450 Berkheim
END:VEVENT
END:VCALENDAR
