BEGIN:VCALENDAR
VERSION:2.0
PRODID:-//Sabre//Sabre VObject 4.5.8//EN
CALSCALE:GREGORIAN
BEGIN:VEVENT
UID:sabre-vobject-03ad69ed-f981-4fc5-b9a7-b04fce6bc545
DTSTAMP:20260420T060802Z
SUMMARY:Spiritualität im 21. Jahrhundert - Online-Veranstaltung
DESCRIPTION:https://keb-augsburg.de/veranstaltungen/spiritualitaet-im-21-ja
 hrhundert-online-veranstaltung_id123752
DTSTART;TZID=Europe/Berlin:20220428T193000
LOCATION:Online
END:VEVENT
END:VCALENDAR
