BEGIN:VCALENDAR
VERSION:2.0
PRODID:-//Sabre//Sabre VObject 4.5.8//EN
CALSCALE:GREGORIAN
BEGIN:VEVENT
UID:sabre-vobject-bb993126-df98-4a30-8b0c-2ff89f7031dc
DTSTAMP:20260423T090128Z
SUMMARY:Digitales Wohlbefinden - Online-Veranstaltung
DESCRIPTION:https://keb-augsburg.de/veranstaltungen/digitales-wohlbefinden-
 online-veranstaltung_id123765
DTSTART;TZID=Europe/Berlin:20220628T193000
LOCATION:Online
END:VEVENT
END:VCALENDAR
