BEGIN:VCALENDAR
VERSION:2.0
PRODID:-//Sabre//Sabre VObject 4.5.8//EN
CALSCALE:GREGORIAN
BEGIN:VEVENT
UID:sabre-vobject-750901b9-db3c-4647-b26c-77e33feedfb6
DTSTAMP:20260422T093528Z
SUMMARY:Ein Kind ist uns geboren\, ein Sohn ist uns geschenkt (Jes 9\,5)
DESCRIPTION:https://keb-augsburg.de/veranstaltungen/ein-kind-ist-uns-gebore
 n-ein-sohn-ist-uns-geschenkt-jes-9-5_id144007
DTSTART;TZID=Europe/Berlin:20221207T193000
LOCATION:Haus Sankt Ulrich\, Kappelberg 1\, 86150 Augsburg
END:VEVENT
END:VCALENDAR
