BEGIN:VCALENDAR
VERSION:2.0
PRODID:-//Sabre//Sabre VObject 4.5.8//EN
CALSCALE:GREGORIAN
BEGIN:VEVENT
UID:sabre-vobject-f3d5bf0f-0224-4b35-8270-b65db2803236
DTSTAMP:20260424T190029Z
SUMMARY:Kleine Welten
DESCRIPTION:https://keb-augsburg.de/veranstaltungen/kleine-welten_id144009
DTSTART;TZID=Europe/Berlin:20230125T100000
LOCATION:Maximilianmuseum\, Fuggerplatz 1\, 86150 Augsburg
END:VEVENT
END:VCALENDAR
