BEGIN:VCALENDAR
VERSION:2.0
PRODID:-//Sabre//Sabre VObject 4.5.8//EN
CALSCALE:GREGORIAN
BEGIN:VEVENT
UID:sabre-vobject-2fc889e2-2333-4eed-8862-26f48eb5d0d4
DTSTAMP:20260424T210601Z
SUMMARY:Stabübergabe
DESCRIPTION:https://keb-augsburg.de/veranstaltungen/stabuebergabe_id144464
DTSTART;TZID=Europe/Berlin:20221019T190000
LOCATION:Online
END:VEVENT
END:VCALENDAR
