BEGIN:VCALENDAR
VERSION:2.0
PRODID:-//Sabre//Sabre VObject 4.5.8//EN
CALSCALE:GREGORIAN
BEGIN:VEVENT
UID:sabre-vobject-e1768353-f5ac-40b4-872e-dd286e30637f
DTSTAMP:20260420T032100Z
SUMMARY:No Sex please!
DESCRIPTION:https://keb-augsburg.de/veranstaltungen/no-sex-please_id174934
DTSTART;TZID=Europe/Berlin:20230316T193000
LOCATION:Haus Sankt Ulrich\, Kappelberg 1\, 86150 Augsburg
END:VEVENT
END:VCALENDAR
