BEGIN:VCALENDAR
VERSION:2.0
PRODID:-//Sabre//Sabre VObject 4.5.8//EN
CALSCALE:GREGORIAN
BEGIN:VEVENT
UID:sabre-vobject-b8680743-1626-4e60-8a3f-df58a1b05143
DTSTAMP:20260425T200127Z
SUMMARY:Christen im Orient I
DESCRIPTION:https://keb-augsburg.de/veranstaltungen/christen-im-orient-i_id
 237032
DTSTART;TZID=Europe/Berlin:20241210T193000
LOCATION:Online
END:VEVENT
END:VCALENDAR
