BEGIN:VCALENDAR
VERSION:2.0
PRODID:-//Sabre//Sabre VObject 4.5.8//EN
CALSCALE:GREGORIAN
BEGIN:VEVENT
UID:sabre-vobject-823258ee-7ade-46e5-bcd2-0fdd6c2aa0d5
DTSTAMP:20260424T091135Z
SUMMARY:Geistliches Ulm
DESCRIPTION:https://keb-augsburg.de/veranstaltungen/geistliches-ulm_id30628
 7
DTSTART;TZID=Europe/Berlin:20260612T100000
LOCATION:Ulm Hbf\, Bahnhofplatz 1\, 89073 Ulm
END:VEVENT
END:VCALENDAR
