BEGIN:VCALENDAR
VERSION:2.0
PRODID:-//Sabre//Sabre VObject 4.5.8//EN
CALSCALE:GREGORIAN
BEGIN:VEVENT
UID:sabre-vobject-c9be7bce-73be-4862-b9d9-f55ec42c56aa
DTSTAMP:20260421T212741Z
SUMMARY:„KESS – Stressless Summer“
DESCRIPTION:https://keb-augsburg.de/veranstaltungen/kess-stressless-summer_
 id306288
DTSTART;TZID=Europe/Berlin:20260905T180000
DTEND;TZID=Europe/Berlin:20260911T100000
LOCATION:Haus Zauberberg\, Kolpingstraße 23\, 87459 Pfronten
END:VEVENT
END:VCALENDAR
