BEGIN:VCALENDAR
VERSION:2.0
PRODID:-//Sabre//Sabre VObject 4.5.8//EN
CALSCALE:GREGORIAN
BEGIN:VEVENT
UID:sabre-vobject-e85086e5-692d-439e-b3ee-d6622799da49
DTSTAMP:20260424T090801Z
SUMMARY:„Klingt gut! Tut gut!“
DESCRIPTION:https://keb-augsburg.de/veranstaltungen/klingt-gut-tut-gut_id30
 6292
DTSTART;TZID=Europe/Berlin:20260508T180000
DTEND;TZID=Europe/Berlin:20260510T130000
LOCATION:Allgäuhaus Wertach\, Kolpingstraße 1\, 87497 Wertach
END:VEVENT
END:VCALENDAR
