BEGIN:VCALENDAR
VERSION:2.0
PRODID:-//Sabre//Sabre VObject 4.5.8//EN
CALSCALE:GREGORIAN
BEGIN:VEVENT
UID:sabre-vobject-5e64427e-9748-4dce-ad8e-9ccace898a3c
DTSTAMP:20260421T162608Z
SUMMARY:Maria - christlich - jüdisch - muslimisch
DESCRIPTION:https://keb-augsburg.de/veranstaltungen/maria-christlich-juedis
 ch-muslimisch_id57679
DTSTART;TZID=Europe/Berlin:20211112T090000
LOCATION:Haus Sankt Ulrich\, Kappelberg 1\, 86150 Augsburg
END:VEVENT
END:VCALENDAR
